BEGIN:VCALENDAR
VERSION:2.0
PRODID:-//Institut für Qualitative Forschung - ECPv6.15.20//NONSGML v1.0//EN
CALSCALE:GREGORIAN
METHOD:PUBLISH
X-ORIGINAL-URL:https://qualitative-forschung.de
X-WR-CALDESC:Veranstaltungen für Institut für Qualitative Forschung
REFRESH-INTERVAL;VALUE=DURATION:PT1H
X-Robots-Tag:noindex
X-PUBLISHED-TTL:PT1H
BEGIN:VTIMEZONE
TZID:UTC
BEGIN:STANDARD
TZOFFSETFROM:+0000
TZOFFSETTO:+0000
TZNAME:UTC
DTSTART:20240101T000000
END:STANDARD
END:VTIMEZONE
BEGIN:VEVENT
DTSTART;VALUE=DATE:20250114
DTEND;VALUE=DATE:20250118
DTSTAMP:20260421T121236
CREATED:20240411T120126Z
LAST-MODIFIED:20240411T120126Z
UID:1614-1736812800-1737158399@qualitative-forschung.de
SUMMARY:MAXQDA in der Forschungspraxis
DESCRIPTION:Workshop-Beschreibung:\nDieser Online-Workshop bietet eine vertiefte Einführung in den Umgang mit dem qualitativen Datenanalyseprogramm MAXQDA. Wir starten auf Anfängerniveau und arbeiten uns gemeinsam in qualitative Auswertungsmethodik und in die Funktionen von MAXQDA vor. Dabei sehen Sie\, wie sich die Funktionen im Forschungsprozess für unterschiedlich methodische Vorgehensweisen sinnvoll und pragmatisch einsetzen lassen. Der Fokus des Kurses liegt\, neben dem Codieren und Arbeiten mit Memos\, auch auf der Umsetzung qualitativer Forschungsprojekte. Ich werde im Kurs viele Praxisbeispiele einbauen und auf passende Literatur referenzieren. Auch Aufbaufunktionen der Software\, wie bspw. Variablen\, Sets und der variablenbasierten Selektion von Material und Kreuztabellen werden behandelt. Es wird zudem erläutert\, wie das komplexe Text-Retrieval arbeitet und Visualisierungsfunktionen des Programms genutzt werden können. Sie werden nach diesem Kurs einen guten Überblick über die Funktionsfelder von MAXQDA besitzen und auch Aufbaufunktionen des Programms einsetzen können. Schließlich wird uns die qualitative Inhaltsanalyse (Kuckartz 2020) begleiten und als ein leicht verständliches\, methodisches Anwendungsbeispiel dienen\, die die erlernten Programmfunktionen sinnvoll zusammenbindet und schlüssig werden lässt. Wir klären Fragen wie: \n\nWie ist MAXQDA aufgebaut und welche Daten können ausgewertet werden?\nWie können Kategoriensysteme induktiv oder deduktiv entwickelt\, Textstellen passend zugeordnet und Codesysteme ausdifferenziert werden?\nWie nutzt man Memos als Forschungswerkzeug sinnvoll für Interpretationsansätze\, Case Summaries\, Ankerbeispiele\, Definitionen und Theorieideen?\nWie können Analysedurchgänge mit dem Text-Retrieval und Suchwerkzeug gestaltet werden?\nWann helfen Variablen bei der qualitativen Datenanalyse und wie lassen sich selektive Aussagen von bestimmten Personengruppen herausfiltern?\nWie lassen sich Zusammenhänge im codierten Material filtern?\nWie können Daten für die Auswertungsphase und den Ergebnisbericht visualisiert werden?\n\nDas Webinar ist eine Mischung aus Vortrag\, Demonstration\, Plenumsdiskussion\, eigenständiger Aufgabenbearbeitung und nachgelagerter Besprechung. \nZielgruppe:\nDieser Workshop richtet sich an Studierende\, Promovierende und Projektmitarbeiter*innen aus den sozialwissenschaftlichen Disziplinen sowie an alle\, die sich für die Auswertung qualitativer Daten interessieren. Vorkenntnisse zu MAXQDA werden nicht vorausgesetzt. \nZu beachten:\nBitte bringen Sie für diesen Kurs Ihr Notebook und eine aktuelle Version von MAXQDA mit. Sofern Sie MAXQDA nicht besitzen\, können Sie mit der Demoversion arbeiten (allerdings nur einmalig 14 Tage\, eine Verlängerung ist nicht möglich). Klären Sie dies bitte vor dem Kursbeginn\, bei Fragen schreiben Sie uns eine kurze Nachricht. \nDer Onlinezugang wird über gotomeeting realisiert. Die Zugangsinformationen kommen per E-Mail. \nTermin:\n14.01.2025\, 9:00 – 11:30 Uhr \n15.01.2025\, 9:00 – 11:30 Uhr \n16.01.2025\, 9:00 – 11:30 Uhr \n17.01.2025\, 9:00 – 11:30 Uhr \nKosten:\n210 Euro (Promovierende sowie Erwerbstätige) \n150 Euro (Studierende im Erststudium) \nTeilnehmendenzahl:\nMaximal 22 Personen \nBitte beachten Sie\, dass bei zu wenigen Anmeldungen der Workshop nicht stattfinden kann. Die endgültige Entscheidung hierüber erfolgt drei Wochen vor dem angekündigten Termin. \nLeitung:\nThorsten Dresing \nAnmeldung und weitere Informationen:\nworkshops@institut.qualitative-forschung.de \nVeranstalter:\nInstitut für Qualitative Forschung\nin der Internationalen Akademie Berlin gGmbH \nVeranstaltungsort:\nOnline \nStornierungshinweis:\nEine Stornierung ist bis 8 Wochen vor Veranstaltungsbeginn bzw. dem ersten Veranstaltungstag kostenfrei möglich. Bei einem späteren Rücktritt fallen 50% (bis 3 Wochen vor Beginn) bzw. 75% (bis 1 Woche vor Beginn) der Teilnahmegebühren als Stornierungskosten an. Bei späteren Stornierungen besteht keine Erstattungsmöglichkeit. \nMit der Anmeldungen stimmen Sie den Allgemeinen Geschäftsbedingungen für die Teilnahme an den Workshops des Instituts für Qualitative Forschung zu.
URL:https://qualitative-forschung.de/event/ws-maxqda-25/
LOCATION:Online
CATEGORIES:Workshop
ORGANIZER;CN="Institut f%C3%BCr Qualitative Forschung in der Internationalen Akademie Berlin gGmbH":MAILTO:workshops@institut.qualitative-forschung.de
END:VEVENT
BEGIN:VEVENT
DTSTART;VALUE=DATE:20250120
DTEND;VALUE=DATE:20250122
DTSTAMP:20260421T121236
CREATED:20240911T081853Z
LAST-MODIFIED:20241113T083846Z
UID:1693-1737331200-1737503999@qualitative-forschung.de
SUMMARY:Qualitative Netzwerkforschung – Einführung in eine Forschungsperspektive
DESCRIPTION:Der Workshop findet online statt. \nWorkshop-Beschreibung:\nIm Rahmen des Workshops werden die Grundlagen der qualitativen Netzwerkforschung erarbeitet. Darüber hinaus werden zentrale Arbeitsschritte der Netzwerkforschung erprobt und reflektiert. Sie erhalten einen Überblick über Erhebungs- und Auswertungsmethoden und lernen einschlägige Studien kennen. \nDer Workshop ist entlang des Forschungsprozesses aufgebaut. Zunächst wird die spezifische Perspektive der qualitativen Netzwerkforschung erörtert\, die sich mit der Bedeutung sozialer Einbettung in Netzwerke für die Orientierungen und Handlungen von Akteuren befasst. Anhand klassischer theoretischer Ansätze werden Sie mit der netzwerkanalytischen Perspektive vertraut gemacht. Daran anschließend besprechen wir Möglichkeiten der Erhebung sowie Vor- und Nachteile des Einsatzes von Netzwerkkarten. Dabei machen Sie sich mit einschlägigen Studien vertraut und haben zudem die Möglichkeit\, Ihre eigenen Interessen an der Netzwerkforschung zu präzisieren. Im Anschluss loten wir vorliegende Verfahrensvorschläge zur Auswertung aus. \nInhalte des Workshops:\n\nGrundlagen: zentrale Kennzeichen und Varianten qualitativer Netzwerkforschung\, Einordnung in den qualitativen Methodendiskurs\, Überblick über aktuelle Entwicklungen\nVarianten der Netzwerkerhebung\, Netzwerkkarten\, Interviews\, Gruppendiskussionen\nPraktische Fragen des netzwerkanalytischen Arbeitens\, u.a.: Einsatz von Netzwerkkarten in der Erhebung\, Verwendung von Software\nDie Teilnehmenden haben die Möglichkeit\, im Vorfeld spezifische Fragen zum Workshop einzubringen\, die im Workshop aufgegriffen werden. Das genaue Vorgehen wird in der Vorabkommunikation zwischen der Workshopleitung und den Teilnehmenden vereinbart.\n\nAblauf:\nNeben klassischen Inputs arbeiten wir mit verschiedenen Übungen in Break-Out-Sessions. Eine aktive Teilnahme ist gewünscht: Es gibt die Möglichkeit das konkrete Vorgehen anhand von Forschungsskizzen von max. drei Teilnehmenden zu erarbeiten. Teilnehmende\, die eine Forschungsfrage\, ein Forschungsprojekt\, ihr Material (z.B. Karten & Interview) u.ä. in den Workshop einbringen möchten\, schicken bitte bis zum 14.01.2025 ein kurzes Exposé mit max. 2 Seiten zu folgenden Aspekten ihres Projekts (gerne in Stichpunkten) an behrmann@uni-wuppertal.de: \n\nThema und Titel der Studie\nFragestellung(en)\nForschungsdesign und Stand der Datenerhebung\nStand der Bearbeitung\ngeplante Auswertung\nFragen und Unterstützungsbedarf zum Projekt\n\nZielgruppe:\nDieser Workshop richtet sich an Studierende\, Promovierende\, Habilitierende und Mitarbeitende in Forschungsprojekten aus dem Umfeld der sozialwissenschaftlichen Disziplinen\, die aktuell eine qualitative Netzwerkforschung durchführen\, eine solche planen oder in Betracht ziehen. Vorkenntnisse zur qualitativen Netzwerkforschung werden nicht vorausgesetzt. \nZu beachten:\nDer Onlinezugang wird über Zoom realisiert. Die Zugangsinformationen bekommen Sie rechtzeitig vor dem Workshop per E-Mail zugesandt. \nTermin:\n20.01.2025\, 09:00 – 16:00 Uhr \n21.01.2025\, 09:00 – 16:00 Uhr \nKosten:\n230 Euro (Promovierende sowie Erwerbstätige) \n165 Euro (Studierende im Erststudium) \nAnzahl der Teilnehmenden:\nMaximal 16 Personen \nBitte beachten Sie\, dass bei zu wenigen Anmeldungen der Workshop nicht stattfinden kann. Die endgültige Entscheidung hierüber erfolgt drei Wochen vor dem angekündigten Termin. \nLeitung:\nLaura Behrmann \nAnmeldung und weitere Informationen:\nworkshops@institut.qualitative-forschung.de \nVeranstalter:\nInstitut für Qualitative Forschung\nin der Internationalen Akademie Berlin gGmbH \nVeranstaltungsort:\nOnline \nStornierungshinweis:\nEine Stornierung ist bis 8 Wochen vor Veranstaltungsbeginn bzw. dem ersten Veranstaltungstag kostenfrei möglich. Bei einem späteren Rücktritt fallen 50% (bis 3 Wochen vor Beginn) bzw. 75% (bis 1 Woche vor Beginn) der Teilnahmegebühren als Stornierungskosten an. Bei späteren Stornierungen besteht keine Erstattungsmöglichkeit. \nMit der Anmeldungen stimmen Sie den Allgemeinen Geschäftsbedingungen für die Teilnahme an den Workshops des Instituts für Qualitative Forschung zu.
URL:https://qualitative-forschung.de/event/ws-nw-25/
LOCATION:Online
ORGANIZER;CN="Institut f%C3%BCr Qualitative Forschung in der Internationalen Akademie Berlin gGmbH":MAILTO:workshops@institut.qualitative-forschung.de
END:VEVENT
BEGIN:VEVENT
DTSTART;VALUE=DATE:20250130
DTEND;VALUE=DATE:20250201
DTSTAMP:20260421T121236
CREATED:20240805T054640Z
LAST-MODIFIED:20250120T135912Z
UID:1665-1738195200-1738367999@qualitative-forschung.de
SUMMARY:Konversationsanalyse
DESCRIPTION:Der Workshop findet in Präsenz statt. \nWorkshop-Beschreibung:\nDer Workshop führt ein in die konversationsanalytische Auswertung von sozialen Interaktionen. Die Teilnehmer*innen lernen in der Arbeit mit Videoaufnahmen\, wie soziale Interaktionen in Bezug auf sozial- und sprachwissenschaftliche Fragestellungen untersucht werden. Der Workshop führt durch die einzelnen Stadien einer konversationsanalytischen Untersuchung von der Erarbeitung einer passenden Untersuchungsfragestellung über die Einzelfallanalyse bis zur fallübergreifenden Analyse von Datenkollektionen. Dabei wird mit authentischen Datenbeispielen gearbeitet. Einen besonderen Schwerpunkt stellen Spezifika der Arbeit mit Videodaten dar. Vermittelt werden weiterhin Grundkenntnisse der Gesprächstranskritpion nach GAT2 und der Videotranskription. Gerne können im Workshop nach vorheriger Absprache Datenaufnahmen aus dem Kreis der Teilnehmer*innen bearbeitet werden. \nZielgruppe:\nDieser Workshop richtet sich an Studierende\, Promovierende und Projektmitarbeiter*innen aus den sprach- und sozialwissenschaftlichen Disziplinen sowie an alle\, die sich für diesen Ansatz interessieren. \nTermin:\n30.01.2025\, 9:30 – 17:00 Uhr \n31.01.2025\, 9:30 – 17:00 Uhr \nKosten:\n230 Euro (Promovierende sowie Erwerbstätige) \n165 Euro (Studierende) \nTeilnehmendenzahl:\nMaximal 16 Personen \nBitte beachten Sie\, dass bei zu wenigen Anmeldungen der Workshop nicht stattfinden kann. Die endgültige Entscheidung hierüber erfolgt drei Wochen vor dem angekündigten Termin. \nLeitung:\nArnulf Deppermann \nAnmeldung und weitere Informationen:\nworkshops@institut.qualitative-forschung.de \nVeranstalter:\nInstitut für Qualitative Forschung\nin der Internationalen Akademie Berlin gGmbH \nVeranstaltungsort:\nInstitut Kinderwelten\nfür diskriminierungskritische Bildung e.V.\nMuskauer Str. 53\n10997 Berlin \nStornierungshinweis:\nEine Stornierung ist bis 8 Wochen vor Veranstaltungsbeginn kostenfrei möglich. Bei einem späteren Rücktritt fallen 50% (bis 3 Wochen vor Beginn) bzw. 75% (bis 1 Woche vor Beginn) der Teilnahmegebühren als Stornierungskosten an. Bei späteren Stornierungen besteht keine Erstattungsmöglichkeit. \nMit der Anmeldungen stimmen Sie den Allgemeinen Geschäftsbedingungen für die Teilnahme an den Workshops des Instituts für Qualitative Forschung zu.
URL:https://qualitative-forschung.de/event/ws-ka-25/
LOCATION:Familie für Kinder gGmbH\, Stresemannstr. 78\, Berlin\, 10963
CATEGORIES:Workshop
ORGANIZER;CN="Institut f%C3%BCr Qualitative Forschung in der Internationalen Akademie Berlin gGmbH":MAILTO:workshops@institut.qualitative-forschung.de
END:VEVENT
END:VCALENDAR