BEGIN:VCALENDAR
VERSION:2.0
PRODID:-//Institut für Qualitative Forschung - ECPv6.15.20//NONSGML v1.0//EN
CALSCALE:GREGORIAN
METHOD:PUBLISH
X-WR-CALNAME:Institut für Qualitative Forschung
X-ORIGINAL-URL:https://qualitative-forschung.de
X-WR-CALDESC:Veranstaltungen für Institut für Qualitative Forschung
REFRESH-INTERVAL;VALUE=DURATION:PT1H
X-Robots-Tag:noindex
X-PUBLISHED-TTL:PT1H
BEGIN:VTIMEZONE
TZID:UTC
BEGIN:STANDARD
TZOFFSETFROM:+0000
TZOFFSETTO:+0000
TZNAME:UTC
DTSTART:20230101T000000
END:STANDARD
END:VTIMEZONE
BEGIN:VEVENT
DTSTART;VALUE=DATE:20240402
DTEND;VALUE=DATE:20240406
DTSTAMP:20260422T043621
CREATED:20231010T095107Z
LAST-MODIFIED:20231010T100622Z
UID:1467-1712016000-1712361599@qualitative-forschung.de
SUMMARY:MAXQDA in der Forschungspraxis - Einführung\, Mixed Methods und qualitative Inhaltsanalyse
DESCRIPTION:Der Workshop findet online statt. \nWorkshop-Beschreibung:\nDieser Online-Workshop bietet eine vertiefte Einführung in den Umgang mit dem qualitativen Datenanalyseprogramm MAXQDA. Wir starten auf Anfängerniveau und arbeiten uns gemeinsam in qualitative Auswertungsmethodik und in die Funktionen von MAXQDA vor. Dabei sehen Sie\, wie sich die Funktionen im Forschungsprozess für unterschiedlich methodische Vorgehensweisen sinnvoll und pragmatisch einsetzen lassen. Der Fokus des Kurses liegt\, neben dem Codieren und Arbeiten mit Memos\, auch auf der Umsetzung qualitativer Forschungsprojekte. Ich werde im Kurs viele Praxisbeispiele einbauen und auf passende Literatur referenzieren. Auch Aufbaufunktionen der Software\, wie bspw. Variablen\, Sets und der variablenbasierten Selektion von Material und Kreuztabellen werden behandelt. Es wird zudem erläutert\, wie das komplexe Text-Retrieval arbeitet und Visualisierungsfunktionen des Programms genutzt werden können. Sie werden nach diesem Kurs einen guten Überblick über die Funktionsfelder von MAXQDA besitzen und auch Aufbaufunktionen des Programms einsetzen können. Schließlich wird uns die qualitative Inhaltsanalyse (Kuckartz 2020) begleiten und als ein leicht verständliches\, methodisches Anwendungsbeispiel dienen\, die die erlernten Programmfunktionen sinnvoll zusammenbindet und schlüssig werden lässt. Wir klären Fragen wie: \n\nWie ist MAXQDA aufgebaut und welche Daten können ausgewertet werden?\nWie können Kategoriensysteme induktiv oder deduktiv entwickelt\, Textstellen passend zugeordnet und Codesysteme ausdifferenziert werden?\nWie nutzt man Memos als Forschungswerkzeug sinnvoll für Interpretationsansätze\, Case Summaries\, Ankerbeispiele\, Definitionen und Theorieideen?\nWie können Analysedurchgänge mit dem Text-Retrieval und Suchwerkzeug gestaltet werden?\nWann helfen Variablen bei der qualitativen Datenanalyse und wie lassen sich selektive Aussagen von bestimmten Personengruppen herausfiltern?\nWie lassen sich Zusammenhänge im codierten Material filtern?\nWie können Daten für die Auswertungsphase und den Ergebnisbericht visualisiert werden?\n\nDas Webinar ist eine Mischung aus Vortrag\, Demonstration\, Plenumsdiskussion\, eigenständiger Aufgabenbearbeitung und nachgelagerter Besprechung. \nZielgruppe:\nDieser Workshop richtet sich an Studierende\, Promovierende und Projektmitarbeiter*innen aus den sozialwissenschaftlichen Disziplinen sowie an alle\, die sich für die Auswertung qualitativer Daten interessieren. Vorkenntnisse zu MAXQDA werden nicht vorausgesetzt. \nZu beachten:\nBitte bringen Sie für diesen Kurs Ihr Notebook und eine aktuelle Version von MAXQDA mit. Sofern Sie MAXQDA nicht besitzen\, können Sie mit der Demoversion arbeiten (allerdings nur einmalig 14 Tage\, eine Verlängerung ist nicht möglich). Klären Sie dies bitte vor dem Kursbeginn\, bei Fragen schreiben Sie uns eine kurze Nachricht. \nDer Onlinezugang wird über gotomeeting realisiert. Die Zugangsinformationen kommen per E-Mail. \nTermin:\n02.04.2024\, 9:00 – 11:30 Uhr \n03.04.2024\, 9:00 – 11:30 Uhr \n04.04.2024\, 9:00 – 11:30 Uhr \n05.04.2024\, 9:00 – 11:30 Uhr \nKosten:\n210 Euro (Promovierende sowie Erwerbstätige) \n150 Euro (Studierende im Erststudium) \nTeilnehmendenzahl:\nMaximal 22 Personen \nBitte beachten Sie\, dass bei zu wenigen Anmeldungen der Workshop nicht stattfinden kann. Die endgültige Entscheidung hierüber erfolgt drei Wochen vor dem angekündigten Termin. \nLeitung:\nThorsten Dresing \nAnmeldung und weitere Informationen:\nworkshops@institut.qualitative-forschung.de \nVeranstalter:\nInstitut für Qualitative Forschung\nin der Internationalen Akademie Berlin gGmbH \nVeranstaltungsort:\nOnline \nStornierungshinweis:\nEine Stornierung ist bis 8 Wochen vor Veranstaltungsbeginn bzw. dem ersten Veranstaltungstag kostenfrei möglich. Bei einem späteren Rücktritt fallen 50% (bis 3 Wochen vor Beginn) bzw. 75% (bis 1 Woche vor Beginn) der Teilnahmegebühren als Stornierungskosten an. Bei späteren Stornierungen besteht keine Erstattungsmöglichkeit. \nMit der Anmeldungen stimmen Sie den Allgemeinen Geschäftsbedingungen für die Teilnahme an den Workshops des Instituts für Qualitative Forschung zu.
URL:https://qualitative-forschung.de/event/ws-maxqda-24/
LOCATION:Online
ORGANIZER;CN="Institut f%C3%BCr Qualitative Forschung in der Internationalen Akademie Berlin gGmbH":MAILTO:workshops@institut.qualitative-forschung.de
END:VEVENT
BEGIN:VEVENT
DTSTART;VALUE=DATE:20240418
DTEND;VALUE=DATE:20240420
DTSTAMP:20260422T043621
CREATED:20231106T083754Z
LAST-MODIFIED:20231106T083754Z
UID:1487-1713398400-1713571199@qualitative-forschung.de
SUMMARY:Mixed-Methods-Projekte mit qualitativen und quantitativen Daten erfolgreich planen und umsetzen: Schritt für Schritt
DESCRIPTION:Der Workshop findet online statt. \nWorkshop-Beschreibung:\nIn diesem Workshop durchlaufen wir alle wichtigen Schritte\, die es bei der Planung und Durchführung einer typischen Mixed-Methods-Studie zu beachten gilt: Wir beginnen bei der Bedeutung von Fragestellungen\, besprechen Aspekte des Samplings sowie verschiedene Designs und widmen uns anschließend den Möglichkeiten zur Datenanalyse und behandeln verschiedene Integrationsstrategien. Anhand von Beispielen besprechen wir gemeinsam konkrete Fragen und Probleme in den einzelnen Schritten. \nNach einer kurzen allgemeinen Einführung stehen unter anderem folgende Themen auf dem Programm: \n\nForschungsfragen in Mixed-Methods-Projekten\nBegründung für die Wahl eines Mixed-Methods-Ansatzes\nSamplingstrategien und Datenerhebung\nTypische Mixed-Methods-Designs\nAnalyse\, Integration und Präsentation\, insbesondere mithilfe von Joint Displays\n\nDie Übertragung der Inhalte auf eigene Mixed-Methods-Projekte und eine kurze Demonstration der Mixed-Methods-Funktionen in MAXQDA runden den Workshop ab. \nDie Teilnehmenden haben die Möglichkeit\, vorab Fragen und Themen einzubringen\, die sie gerne im Workshop behandeln möchten. \nZielgruppe:\nDieser Workshop richtet sich an Studierende\, Promovierende\, Habilitierende und Mitarbeitende in Forschungsprojekten aus dem Umfeld der sozialwissenschaftlichen Disziplinen\, die aktuell eine Mixed-Methods-Studie durchführen oder dies planen. Vorkenntnisse zu Mixed Methods sind nicht erforderlich. \nZu beachten:\nDer Onlinezugang wird über Zoom realisiert. Die Zugangsinformationen bekommen Sie rechtzeitig vor dem Workshop per E-Mail zugesandt. \nTermin:\n18.04.2024\, 09:00 – 15:00 Uhr \n19.04.2024\, 09:00 – 13:00 Uhr \nKosten:\n230 Euro (Promovierende sowie Erwerbstätige) \n165 Euro (Studierende im Erststudium) \nTeilnehmendenzahl:\nMaximal 16 Personen \nBitte beachten Sie\, dass bei zu wenigen Anmeldungen der Workshop nicht stattfinden kann. Die endgültige Entscheidung hierüber erfolgt drei Wochen vor dem angekündigten Termin. \nLeitung:\nStefan Rädiker\n(methoden-expertise.de) \nAnmeldung und weitere Informationen:\nworkshops@institut.qualitative-forschung.de \nVeranstalter:\nInstitut für Qualitative Forschung\nin der Internationalen Akademie Berlin gGmbH \nVeranstaltungsort:\nOnline \nStornierungshinweis\nEine Stornierung ist bis 8 Wochen vor Veranstaltungsbeginn kostenfrei möglich. Bei einem späteren Rücktritt fallen 50% (bis 3 Wochen vor Beginn) bzw. 75% (bis 1 Woche vor Beginn) der Teilnahmegebühren als Stornierungskosten an. Bei späteren Stornierungen besteht keine Erstattungsmöglichkeit. \nMit der Anmeldungen stimmen Sie den Allgemeinen Geschäftsbedingungen für die Teilnahme an den Workshops des Instituts für Qualitative Forschung zu.
URL:https://qualitative-forschung.de/event/ws-mm-24-1/
LOCATION:Online
CATEGORIES:Workshop
ORGANIZER;CN="Institut f%C3%BCr Qualitative Forschung in der Internationalen Akademie Berlin gGmbH":MAILTO:workshops@institut.qualitative-forschung.de
END:VEVENT
END:VCALENDAR