BEGIN:VCALENDAR
VERSION:2.0
PRODID:-//Institut für Qualitative Forschung - ECPv6.15.20//NONSGML v1.0//EN
CALSCALE:GREGORIAN
METHOD:PUBLISH
X-ORIGINAL-URL:https://qualitative-forschung.de
X-WR-CALDESC:Veranstaltungen für Institut für Qualitative Forschung
REFRESH-INTERVAL;VALUE=DURATION:PT1H
X-Robots-Tag:noindex
X-PUBLISHED-TTL:PT1H
BEGIN:VTIMEZONE
TZID:UTC
BEGIN:STANDARD
TZOFFSETFROM:+0000
TZOFFSETTO:+0000
TZNAME:UTC
DTSTART:20230101T000000
END:STANDARD
END:VTIMEZONE
BEGIN:VEVENT
DTSTART;VALUE=DATE:20240613
DTEND;VALUE=DATE:20240615
DTSTAMP:20260422T030645
CREATED:20240213T091633Z
LAST-MODIFIED:20240430T054316Z
UID:1583-1718236800-1718409599@qualitative-forschung.de
SUMMARY:Einführung in die Reflexive Grounded Theory
DESCRIPTION:Der Workshop findet online statt. \nWorkshop-Beschreibung: \nIn diesem Workshop wird eine Einführung in die methodologischen Grundprinzipien und die Arbeitsweisen eines selbst-/reflexiven Grounded-Theory-Forschungsstils gegeben. Der Person des*der Forschenden\, deren Verquickung mit dem Untersuchungsanliegen sowie deren Wechselwirkungen mit dem Untersuchungsfeld wird bei diesem Forschungsstil besondere methodologische Aufmerksamkeit gewidmet. Der besondere Stellenwert des Ringens um neue kreative Theorieentwürfe wird hervorgehoben. Die Techniken des Kodierens werden vorgestellt und eingeübt. Charakteristische Probleme der Arbeitsweise  werden besprochen: Einstiegsschwierigkeiten\, der Umgang mit Präkonzepten sowie Überlegungen zur Modellbildung. \nIm Workshop werden folgende Themen besprochen: \n\nEpistemologische und methodologische Prinzipien der Reflexiven Grounded Theory\nSubjektivität der Forschenden\, Umgang mit Präkonzepten\, Nutzung von Subjektivität als „Erkenntnisfenster“\nSchritte\, Varianten und Hilfsmittel des Kodierens (offenes\, axiales\, selektives Kodieren)\nTheoretical Sampling – Kontrastieren\nMöglichkeiten des Modell-/Theoriebildens\nForschungstagebuch\, Memos und weitere Aspekte des Schreibens\n\nAn ausgewählten Teilnehmer*innen-Projekten können wir ggf. gemeinsame Umsetzungsversuche dieser Arbeitsweise machen. Dabei soll der Forschungsstil illustriert und vertieft vorgestellt werden. Bevorzugt werden Fragen aufgeworfen und besprochen\, die sich im Zusammenhang mit einem eigenen Forschungsprojekt nach R/GTM-Modus stellen. Hier können Teilnehmende ihre eigenen (Problem-) Erfahrungen und Fragen einbringen. \nIm Oktober wird im IQF-Workshop-Programm eine Forschungswerkstatt zum R/GTM-Forschungsstil angeboten\, bei der u.U. ein eigenes Projekt weiterführend besprochen werden kann. \nZielgruppe: \nDer Workshop richtet sich an Interessierte unterschiedlicher sozial/-humanwissenschaftlicher Fachrichtungen. Er ist geeignet für Studierende\, die diesen Ansatz kennenlernen möchten\, für Forschungs-Novizen\, die eigene Abschlussarbeiten vorbereiten bzw. bearbeiten und Promovierende\, die bereits erste Erfahrungen mit diesem Forschungsstil gemacht haben sowie für alle\, die sich im Bereich der Grounded-Theory-Methodologie weiterbilden möchten. \nZu beachten:\nDer Onlinezugang wird über Zoom realisiert. Die Zugangsinformationen bekommen Sie rechtzeitig vor dem Workshop per E-Mail zugesandt. \nTermine:\n13.06.2024\, 10:00 – 17:30 Uhr \n14.06.2024\, 10:00 – 17:00 Uhr \nKosten:\n230 Euro (Promovierende sowie Erwerbstätige) \n165 Euro (Studierende im Erststudium) \nTeilnehmendenzahl:\nMaximal 16 Personen \nBitte beachten Sie\, dass bei zu wenigen Anmeldungen der Workshop nicht stattfinden kann. Die endgültige Entscheidung hierüber erfolgt drei Wochen vor dem angekündigten Termin. \nLeitung:\nFranz Breuer und Rubina Vock \nAnmeldung und weitere Informationen:\nworkshops@institut.qualitative-forschung.de \nVeranstalter:\nInstitut für Qualitative Forschung\nin der Internationalen Akademie Berlin gGmbH \nVeranstaltungsort:\nOnline \nStornierungshinweis\nEine Stornierung ist bis 8 Wochen vor Veranstaltungsbeginn kostenfrei möglich. Bei einem späteren Rücktritt fallen 50% (bis 3 Wochen vor Beginn) bzw. 75% (bis 1 Woche vor Beginn) der Teilnahmegebühren als Stornierungskosten an. Bei späteren Stornierungen besteht keine Erstattungsmöglichkeit. \nMit der Anmeldungen stimmen Sie den Allgemeinen Geschäftsbedingungen für die Teilnahme an den Workshops des Instituts für Qualitative Forschung zu.
URL:https://qualitative-forschung.de/event/ws-gtm-24-2/
LOCATION:Online
ORGANIZER;CN="Institut f%C3%BCr Qualitative Forschung in der Internationalen Akademie Berlin gGmbH":MAILTO:workshops@institut.qualitative-forschung.de
END:VEVENT
END:VCALENDAR