BEGIN:VCALENDAR
VERSION:2.0
PRODID:-//Institut für Qualitative Forschung - ECPv6.15.20//NONSGML v1.0//EN
CALSCALE:GREGORIAN
METHOD:PUBLISH
X-WR-CALNAME:Institut für Qualitative Forschung
X-ORIGINAL-URL:https://qualitative-forschung.de
X-WR-CALDESC:Veranstaltungen für Institut für Qualitative Forschung
REFRESH-INTERVAL;VALUE=DURATION:PT1H
X-Robots-Tag:noindex
X-PUBLISHED-TTL:PT1H
BEGIN:VTIMEZONE
TZID:UTC
BEGIN:STANDARD
TZOFFSETFROM:+0000
TZOFFSETTO:+0000
TZNAME:UTC
DTSTART:20220101T000000
END:STANDARD
END:VTIMEZONE
BEGIN:VEVENT
DTSTART;VALUE=DATE:20231208
DTEND;VALUE=DATE:20231210
DTSTAMP:20260424T090357
CREATED:20230502T145705Z
LAST-MODIFIED:20230509T102947Z
UID:1377-1701993600-1702166399@qualitative-forschung.de
SUMMARY:Forschungswerkstatt zur Reflexiven Grounded Theory
DESCRIPTION:Der Workshop findet in Präsenz statt. \nWorkshop-Beschreibung: \nDer Workshop bietet im Sinne einer Forschungswerkstatt Gelegenheit zur vertieften Beschäftigung mit ausgewählten Projekten von Teilnehmenden\, die mit der Forschungsmethodik der (Reflexiven) Grounded Theory arbeiten. Auf der Basis von Grundkenntnissen oder eigener Forschungserfahrungen mit der (Reflexiven) Grounded-Theory-Methodologie werden wir zwei Teilnehmenden-Projekte pro Tag gemeinsam diskutieren. Die Projekte können sich in allen möglichen Phasen der Durchführung befinden. \nEine Einführung in die Grounded-Theory-Methodologie bietet der Workshop nicht! \nBei Interesse an einer Besprechung eigener Projektmaterialien bitte bis zum 10.11.2023 ein (Mini-) Exposé mit (Mini-) Datenprobe einreichen: höchstens zwei Textseiten allgemeinverständliches Projekt-Exposé (ohne Literaturreferenz; Schriftgröße 12 pt.) plus maximal eine Textseite mit Datenmaterial oder Auswertungsausschnitten (Transkript mit Zeilennummerierung\, Kategorien-Beschreibung\, Modell-Entwurf\, Memo etc.) – die im Vorfeld an die anderen Teilnehmenden verschickt werden können. Wenn es mehr Einreichungen gibt als wir in einem Treffen bearbeiten können\, muss eine Auswahl getroffen werden. \nZielgruppe: \nDer Workshop richtet sich an alle\, die über Grundkenntnisse in der (Reflexiven) Grounded-Theory-Methodologie verfügen und/oder aktuell eigene Forschungserfahrungen mit dieser Methode machen. \nTermine: \n08.12.2023\, 10:00 – 17:30 Uhr \n09.12.2023\, 10:00 – 17:00 Uhr \nKosten: \n230 Euro (Promovierende sowie Erwerbstätige) \n165 Euro (Studierende) \nTeilnehmendenzahl: \nMaximal 16 Personen \nBitte beachten Sie\, dass bei zu wenigen Anmeldungen der Workshop nicht stattfinden kann. Die endgültige Entscheidung hierüber erfolgt drei Wochen vor dem angekündigten Termin. \nLeitung: \nFranz Breuer und Rubina Vock \nAnmeldung und weitere Informationen: \nworkshops@institut.qualitative-forschung.de \nVeranstalter: \nInstitut für Qualitative Forschung\nin der Internationalen Akademie Berlin gGmbH \nVeranstaltungsort: \nInstitut für den Situationsansatz\nin der Internationalen Akademie Berlin gGmbH\nMuskauer Str. 53\n10997 Berlin \nEine Anfahrtsbeschreibung finden Sie hier. \nStornierungshinweis: \nEine Stornierung ist bis 8 Wochen vor Veranstaltungsbeginn bzw. dem ersten Veranstaltungstag kostenfrei möglich. Bei einem späteren Rücktritt fallen 50% (bis 3 Wochen vor Beginn) bzw. 75% (bis 1 Woche vor Beginn) der Teilnahmegebühren als Stornierungskosten an. Bei späteren Stornierungen besteht keine Erstattungsmöglichkeit. \nMit der Anmeldungen stimmen Sie den Allgemeinen Geschäftsbedingungen für die Teilnahme an den Workshops des Instituts für Qualitative Forschung zu.
URL:https://qualitative-forschung.de/event/ws-gtm-23-5/
LOCATION:Familie für Kinder gGmbH\, Stresemannstr. 78\, Berlin\, 10963
CATEGORIES:Forschungswerkstatt
ORGANIZER;CN="Institut f%C3%BCr Qualitative Forschung in der Internationalen Akademie Berlin gGmbH":MAILTO:workshops@institut.qualitative-forschung.de
END:VEVENT
END:VCALENDAR